{
 "currentVersion": 11.1,
 "serviceDescription": "Le nouvel ensemble de données mondial, appelé l'indice de stress évaporatif (ISE), disponible en ligne et produit chaque semaine à une résolution de 5 kilomètres pour l'ensemble du globe, révèle les régions de sécheresse où la végétation est stressée en raison du manque d'eau, permettant aux ministères de l'agriculture de fournir aux agriculteurs des conseils pratiques sur l'irrigation. L'ISE peut capturer les premiers signaux de «sécheresse éclair», une condition provoquée par des périodes prolongées de conditions chaudes, sèches et venteuses conduisant à une diminution rapide de l'humidité du sol. Des taux réduits de perte d'eau peuvent être observés grâce à l'utilisation de la température de la surface du sol avant de pouvoir être observés par le biais d'une diminution de la santé de la végétation ou de la «verdure». L'ISE décrit l'humidité du sol à travers le paysage sans utiliser les données de précipitations observées. Ceci est critique dans les régions en développement et dans d'autres parties du monde où les observations au sol des précipitations sont insuffisantes. L'ISE est basée sur des observations satellitaires de la température à la surface du sol, qui sont utilisées pour estimer la perte d'eau due à l'évapotranspiration (ET), la perte d'eau par évaporation du sol et de la surface des plantes et via la transpiration à travers les feuilles des plantes. En général, une végétation verte saine ayant accès à un approvisionnement adéquat en eau se réchauffe à un rythme beaucoup plus lent que la végétation sèche et / ou stressée. Sur la base des variations de la température de la surface terrestre, l'ISE indique comment le taux actuel d'ET se compare aux conditions normales. Les valeurs ISE négatives montrent des taux d'ET inférieurs à la normale, indiquant une végétation stressée en raison d'une humidité insuffisante du sol. (La première réponse des plantes, lorsqu'elles sont stressées par le manque d'eau, est de réduire leur transpiration pour conserver l'eau à l'intérieur de la plante.) Auteur: Christopher Hain (NASA Marshall Space Flight Center), Martha Anderson (USDA Agricultural Research Service). Pour plus d'information, consulter : https://servirglobal.net/Global/Evaporative-Stress-Index-4-weeks (SERVIR Global)",
 "name": "indice_de_stress_evaporatif",
 "description": "Le nouvel ensemble de données mondial, appelé l'indice de stress évaporatif (ISE), disponible en ligne et produit chaque semaine à une résolution de 5 kilomètres pour l'ensemble du globe, révèle les régions de sécheresse où la végétation est stressée en raison du manque d'eau, permettant aux ministères de l'agriculture de fournir aux agriculteurs des conseils pratiques sur l'irrigation. L'ISE peut capturer les premiers signaux de «sécheresse éclair», une condition provoquée par des périodes prolongées de conditions chaudes, sèches et venteuses conduisant à une diminution rapide de l'humidité du sol. Des taux réduits de perte d'eau peuvent être observés grâce à l'utilisation de la température de la surface du sol avant de pouvoir être observés par le biais d'une diminution de la santé de la végétation ou de la «verdure». L'ISE décrit l'humidité du sol à travers le paysage sans utiliser les données de précipitations observées. Ceci est critique dans les régions en développement et dans d'autres parties du monde où les observations au sol des précipitations sont insuffisantes. L'ISE est basée sur des observations satellitaires de la température à la surface du sol, qui sont utilisées pour estimer la perte d'eau due à l'évapotranspiration (ET), la perte d'eau par évaporation du sol et de la surface des plantes et via la transpiration à travers les feuilles des plantes. En général, une végétation verte saine ayant accès à un approvisionnement adéquat en eau se réchauffe à un rythme beaucoup plus lent que la végétation sèche et / ou stressée. Sur la base des variations de la température de la surface terrestre, l'ISE indique comment le taux actuel d'ET se compare aux conditions normales. Les valeurs ISE négatives montrent des taux d'ET inférieurs à la normale, indiquant une végétation stressée en raison d'une humidité insuffisante du sol. (La première réponse des plantes, lorsqu'elles sont stressées par le manque d'eau, est de réduire leur transpiration pour conserver l'eau à l'intérieur de la plante.) Auteur: Christopher Hain (NASA Marshall Space Flight Center), Martha Anderson (USDA Agricultural Research Service). Pour plus d'information, consulter : https://servirglobal.net/Global/Evaporative-Stress-Index-4-weeks (SERVIR Global)",
 "extent": {
  "xmin": -1.56960482E7,
  "ymin": 5160979.440000001,
  "xmax": -5900366.573587244,
  "ymax": 1.782191196E7,
  "spatialReference": {
   "wkid": 102100,
   "latestWkid": 3857
  }
 },
 "initialExtent": {
  "xmin": -1.56960482E7,
  "ymin": 5160979.440000001,
  "xmax": -5900366.573587244,
  "ymax": 1.782191196E7,
  "spatialReference": {
   "wkid": 102100,
   "latestWkid": 3857
  }
 },
 "fullExtent": {
  "xmin": -1.56960482E7,
  "ymin": 5160979.440000001,
  "xmax": -5900366.573587244,
  "ymax": 1.782191196E7,
  "spatialReference": {
   "wkid": 102100,
   "latestWkid": 3857
  }
 },
 "sortableFields": "MinPS,MaxPS,LowPS,HighPS,CenterX,CenterY,ZOrder,Shape_Length,Shape_Area,dateEnd",
 "bandCount": 1,
 "pixelType": "F32",
 "minValues": [],
 "maxValues": [],
 "meanValues": [],
 "stdvValues": [],
 "hasMultidimensions": false,
 "timeInfo": {
  "startTimeField": "dateEnd",
  "endTimeField": "dateEnd",
  "timeExtent": [
   1735732800000,
   1783598400000
  ],
  "timeReference": null
 },
 "pixelSizeX": 5607.144605845881,
 "pixelSizeY": 5607.144605845881,
 "datasetFormat": "AMD",
 "uncompressedSize": 15778904,
 "blockWidth": 2048,
 "blockHeight": 256,
 "compressionType": "None",
 "bandNames": [
  "Band_1"
 ],
 "allowCopy": true,
 "allowAnalysis": true,
 "itemAccess": false,
 "minPixelSize": 0,
 "maxPixelSize": 0,
 "copyrightText": "Agriculture et Agroalimentaire Canada, NASA, USDA",
 "serviceDataType": "esriImageServiceDataTypeGeneric",
 "serviceSourceType": "esriImageServiceSourceTypeMosaicDataset",
 "objectIdField": "OBJECTID",
 "fields": [
  {
   "name": "OBJECTID",
   "type": "esriFieldTypeOID",
   "alias": "OBJECTID",
   "domain": null
  },
  {
   "name": "Shape",
   "type": "esriFieldTypeGeometry",
   "alias": "Shape",
   "domain": null
  },
  {
   "name": "Name",
   "type": "esriFieldTypeString",
   "alias": "Name",
   "domain": null,
   "length": 200
  },
  {
   "name": "MinPS",
   "type": "esriFieldTypeDouble",
   "alias": "MinPS",
   "domain": null
  },
  {
   "name": "MaxPS",
   "type": "esriFieldTypeDouble",
   "alias": "MaxPS",
   "domain": null
  },
  {
   "name": "LowPS",
   "type": "esriFieldTypeDouble",
   "alias": "LowPS",
   "domain": null
  },
  {
   "name": "HighPS",
   "type": "esriFieldTypeDouble",
   "alias": "HighPS",
   "domain": null
  },
  {
   "name": "Category",
   "type": "esriFieldTypeInteger",
   "alias": "Category",
   "domain": {
    "type": "codedValue",
    "name": "MosaicCatalogItemCategoryDomain",
    "description": "Catalog item categories.",
    "codedValues": [
     {
      "name": "Unknown",
      "code": 0
     },
     {
      "name": "Primary",
      "code": 1
     },
     {
      "name": "Overview",
      "code": 2
     },
     {
      "name": "Unprocessed Overview",
      "code": 3
     },
     {
      "name": "Partial Overview",
      "code": 4
     },
     {
      "name": "Inactive",
      "code": 5
     },
     {
      "name": "Uploaded",
      "code": 253
     },
     {
      "name": "Incomplete",
      "code": 254
     },
     {
      "name": "Custom",
      "code": 255
     }
    ],
    "mergePolicy": "esriMPTDefaultValue",
    "splitPolicy": "esriSPTDefaultValue"
   }
  },
  {
   "name": "Tag",
   "type": "esriFieldTypeString",
   "alias": "Tag",
   "domain": null,
   "length": 100
  },
  {
   "name": "GroupName",
   "type": "esriFieldTypeString",
   "alias": "GroupName",
   "domain": null,
   "length": 100
  },
  {
   "name": "ProductName",
   "type": "esriFieldTypeString",
   "alias": "ProductName",
   "domain": null,
   "length": 100
  },
  {
   "name": "CenterX",
   "type": "esriFieldTypeDouble",
   "alias": "CenterX",
   "domain": null
  },
  {
   "name": "CenterY",
   "type": "esriFieldTypeDouble",
   "alias": "CenterY",
   "domain": null
  },
  {
   "name": "ZOrder",
   "type": "esriFieldTypeInteger",
   "alias": "ZOrder",
   "domain": null
  },
  {
   "name": "Shape_Length",
   "type": "esriFieldTypeDouble",
   "alias": "Shape_Length",
   "domain": null
  },
  {
   "name": "Shape_Area",
   "type": "esriFieldTypeDouble",
   "alias": "Shape_Area",
   "domain": null
  },
  {
   "name": "dateEnd",
   "type": "esriFieldTypeDate",
   "alias": "dateEnd",
   "domain": null,
   "length": 8
  }
 ],
 "capabilities": "Image,Metadata,Catalog",
 "defaultMosaicMethod": "ByAttribute",
 "allowedMosaicMethods": "ByAttribute,None,LockRaster",
 "sortField": "dateEnd",
 "sortValue": "3000",
 "sortAscending": true,
 "mosaicOperator": "First",
 "maxDownloadSizeLimit": 2048,
 "defaultCompressionQuality": 75,
 "defaultResamplingMethod": "Bilinear",
 "maxImageHeight": 4100,
 "maxImageWidth": 15000,
 "maxRecordCount": 1000,
 "maxDownloadImageCount": 20,
 "maxMosaicImageCount": 1,
 "allowRasterFunction": true,
 "rasterFunctionInfos": [
  {
   "name": "ise_modis_4semaines",
   "description": "Remap and Attribute Table raster functions",
   "help": ""
  },
  {
   "name": "None",
   "description": "",
   "help": ""
  }
 ],
 "rasterTypeInfos": [
  {
   "name": "Raster Dataset",
   "description": "Supports all ArcGIS Raster Datasets",
   "help": ""
  }
 ],
 "mensurationCapabilities": "",
 "hasHistograms": false,
 "hasColormap": false,
 "hasRasterAttributeTable": false,
 "minScale": 0,
 "maxScale": 0,
 "exportTilesAllowed": false,
 "supportsStatistics": true,
 "supportsAdvancedQueries": true,
 "editFieldsInfo": null,
 "ownershipBasedAccessControlForRasters": null,
 "allowComputeTiePoints": false,
 "useStandardizedQueries": true,
 "advancedQueryCapabilities": {
  "useStandardizedQueries": true,
  "supportsStatistics": true,
  "supportsOrderBy": true,
  "supportsDistinct": true,
  "supportsPagination": true
 },
 "spatialReference": {
  "wkid": 102100,
  "latestWkid": 3857
 }
}
