{
 "currentVersion": 11.1,
 "serviceDescription": "L'indice normalisé des précipitations (INP) est généralement considéré comme l'un des outils les plus accessibles pour quantifier et signaler les sécheresses météorologiques. À des échelles de temps plus courtes, les valeurs de l'INP sont fortement corrélées avec l'humidité du sol, tandis qu'à des échelles de temps prolongées, elles reflètent les variations du niveau des eaux souterraines et des réservoirs. Le modèle de l'INP calcule les distributions de probabilité à partir des données historiques sur les précipitations, qui sont ensuite normalisées à l'aide d'une fonction gamma incomplète sur plusieurs échelles de temps. Les valeurs de l'INP indiquent le nombre d'écarts-types entre l'anomalie observée et la période d'enregistrement à long terme. Les valeurs positives correspondent à des conditions plus humides que la moyenne. Les périodes calculées pour les centiles des précipitations (mensuel) sont de 1, 2, 3, 6, 9, 12, 18 et 24 mois. Chaque semaine ISO est numérotée de 1 à 52 (parfois 53) au cours d'une année. Une semaine ISO commence le lundi et se termine le dimanche. Les données historiques remontent à 1980. Les valeurs des indices ont été calculées à l'aide de l'ensemble xclim de Python. Les périodes peuvent être filtrées à l'aide du champ tType dans le service, où le suffixe « m » désigne une échelle de temps mensuelle et « w » une échelle de temps hebdomadaire. Pour plus d'information, consulter : https://ouvert.canada.ca/data/fr/dataset/cdc59a23-ca37-4645-b96d-4e7737404e54",
 "name": "sniad/indice_normalise_des_precipitations",
 "description": "L'indice normalisé des précipitations (INP) est généralement considéré comme l'un des outils les plus accessibles pour quantifier et signaler les sécheresses météorologiques. À des échelles de temps plus courtes, les valeurs de l'INP sont fortement corrélées avec l'humidité du sol, tandis qu'à des échelles de temps prolongées, elles reflètent les variations du niveau des eaux souterraines et des réservoirs. Le modèle de l'INP calcule les distributions de probabilité à partir des données historiques sur les précipitations, qui sont ensuite normalisées à l'aide d'une fonction gamma incomplète sur plusieurs échelles de temps. Les valeurs de l'INP indiquent le nombre d'écarts-types entre l'anomalie observée et la période d'enregistrement à long terme. Les valeurs positives correspondent à des conditions plus humides que la moyenne. Les périodes calculées pour les centiles des précipitations (mensuel) sont de 1, 2, 3, 6, 9, 12, 18 et 24 mois. Chaque semaine ISO est numérotée de 1 à 52 (parfois 53) au cours d'une année. Une semaine ISO commence le lundi et se termine le dimanche. Les données historiques remontent à 1980. Les valeurs des indices ont été calculées à l'aide de l'ensemble xclim de Python. Les périodes peuvent être filtrées à l'aide du champ tType dans le service, où le suffixe « m » désigne une échelle de temps mensuelle et « w » une échelle de temps hebdomadaire. Pour plus d'information, consulter : https://ouvert.canada.ca/data/fr/dataset/cdc59a23-ca37-4645-b96d-4e7737404e54",
 "extent": {
  "xmin": -2.0037507842788246E7,
  "ymin": 1942475.858145211,
  "xmax": 2.002424200497104E7,
  "ymax": 2.003750834278928E7,
  "spatialReference": {
   "wkid": 102100,
   "latestWkid": 3857
  }
 },
 "initialExtent": {
  "xmin": -2.0037507842788246E7,
  "ymin": 1942475.858145211,
  "xmax": 2.002424200497104E7,
  "ymax": 2.003750834278928E7,
  "spatialReference": {
   "wkid": 102100,
   "latestWkid": 3857
  }
 },
 "fullExtent": {
  "xmin": -2.0037507842788246E7,
  "ymin": 1942475.858145211,
  "xmax": 2.002424200497104E7,
  "ymax": 2.003750834278928E7,
  "spatialReference": {
   "wkid": 102100,
   "latestWkid": 3857
  }
 },
 "sortableFields": "dateEnd,Shape_Area,Shape_Length,ZOrder,CenterY,CenterX,HighPS,LowPS,MaxPS,MinPS",
 "bandCount": 1,
 "pixelType": "F32",
 "minValues": [],
 "maxValues": [],
 "meanValues": [],
 "stdvValues": [],
 "hasMultidimensions": false,
 "timeInfo": {
  "startTimeField": "dateEnd",
  "endTimeField": "dateEnd",
  "timeExtent": [
   1420977600000,
   1782043200000
  ],
  "timeReference": null
 },
 "pixelSizeX": 20377.28883405864,
 "pixelSizeY": 20377.288834058636,
 "datasetFormat": "AMD",
 "uncompressedSize": 6983232,
 "blockWidth": 2048,
 "blockHeight": 256,
 "compressionType": "None",
 "bandNames": [
  "Band_1"
 ],
 "allowCopy": true,
 "allowAnalysis": true,
 "itemAccess": false,
 "minPixelSize": 0,
 "maxPixelSize": 0,
 "copyrightText": "Agriculture et Agroalimentaire Canada",
 "serviceDataType": "esriImageServiceDataTypeGeneric",
 "serviceSourceType": "esriImageServiceSourceTypeMosaicDataset",
 "objectIdField": "OBJECTID",
 "fields": [
  {
   "name": "OBJECTID",
   "type": "esriFieldTypeOID",
   "alias": "OBJECTID",
   "domain": null
  },
  {
   "name": "Shape",
   "type": "esriFieldTypeGeometry",
   "alias": "Shape",
   "domain": null
  },
  {
   "name": "Name",
   "type": "esriFieldTypeString",
   "alias": "Name",
   "domain": null,
   "length": 200
  },
  {
   "name": "MinPS",
   "type": "esriFieldTypeDouble",
   "alias": "MinPS",
   "domain": null
  },
  {
   "name": "MaxPS",
   "type": "esriFieldTypeDouble",
   "alias": "MaxPS",
   "domain": null
  },
  {
   "name": "LowPS",
   "type": "esriFieldTypeDouble",
   "alias": "LowPS",
   "domain": null
  },
  {
   "name": "HighPS",
   "type": "esriFieldTypeDouble",
   "alias": "HighPS",
   "domain": null
  },
  {
   "name": "Category",
   "type": "esriFieldTypeInteger",
   "alias": "Category",
   "domain": {
    "type": "codedValue",
    "name": "MosaicCatalogItemCategoryDomain",
    "description": "Catalog item categories.",
    "codedValues": [
     {
      "name": "Unknown",
      "code": 0
     },
     {
      "name": "Primary",
      "code": 1
     },
     {
      "name": "Overview",
      "code": 2
     },
     {
      "name": "Unprocessed Overview",
      "code": 3
     },
     {
      "name": "Partial Overview",
      "code": 4
     },
     {
      "name": "Inactive",
      "code": 5
     },
     {
      "name": "Uploaded",
      "code": 253
     },
     {
      "name": "Incomplete",
      "code": 254
     },
     {
      "name": "Custom",
      "code": 255
     }
    ],
    "mergePolicy": "esriMPTDefaultValue",
    "splitPolicy": "esriSPTDefaultValue"
   }
  },
  {
   "name": "Tag",
   "type": "esriFieldTypeString",
   "alias": "Tag",
   "domain": null,
   "length": 100
  },
  {
   "name": "GroupName",
   "type": "esriFieldTypeString",
   "alias": "GroupName",
   "domain": null,
   "length": 100
  },
  {
   "name": "ProductName",
   "type": "esriFieldTypeString",
   "alias": "ProductName",
   "domain": null,
   "length": 100
  },
  {
   "name": "CenterX",
   "type": "esriFieldTypeDouble",
   "alias": "CenterX",
   "domain": null
  },
  {
   "name": "CenterY",
   "type": "esriFieldTypeDouble",
   "alias": "CenterY",
   "domain": null
  },
  {
   "name": "ZOrder",
   "type": "esriFieldTypeInteger",
   "alias": "ZOrder",
   "domain": null
  },
  {
   "name": "Shape_Length",
   "type": "esriFieldTypeDouble",
   "alias": "Shape_Length",
   "domain": null
  },
  {
   "name": "Shape_Area",
   "type": "esriFieldTypeDouble",
   "alias": "Shape_Area",
   "domain": null
  },
  {
   "name": "dateEnd",
   "type": "esriFieldTypeDate",
   "alias": "dateEnd",
   "domain": null,
   "length": 8
  },
  {
   "name": "tType",
   "type": "esriFieldTypeString",
   "alias": "tType",
   "domain": null,
   "length": 30
  }
 ],
 "capabilities": "Image,Metadata,Catalog,Mensuration",
 "defaultMosaicMethod": "ByAttribute",
 "allowedMosaicMethods": "ByAttribute,None,LockRaster",
 "sortField": "dateEnd",
 "sortValue": "3000",
 "sortAscending": true,
 "mosaicOperator": "First",
 "maxDownloadSizeLimit": 2048,
 "defaultCompressionQuality": 75,
 "defaultResamplingMethod": "Bilinear",
 "maxImageHeight": 4100,
 "maxImageWidth": 15000,
 "maxRecordCount": 1000,
 "maxDownloadImageCount": 20,
 "maxMosaicImageCount": 1,
 "allowRasterFunction": true,
 "rasterFunctionInfos": [
  {
   "name": "sniad_indice_normalise_des_precipitations_national",
   "description": "L'indice normalisé des précipitations (INP)",
   "help": ""
  },
  {
   "name": "None",
   "description": "Make a Raster or Raster Dataset into a Function Raster Dataset.",
   "help": ""
  }
 ],
 "rasterTypeInfos": [
  {
   "name": "Raster Dataset",
   "description": "Supports all ArcGIS Raster Datasets",
   "help": ""
  }
 ],
 "mensurationCapabilities": "Basic",
 "hasHistograms": false,
 "hasColormap": false,
 "hasRasterAttributeTable": false,
 "minScale": 0,
 "maxScale": 0,
 "exportTilesAllowed": false,
 "supportsStatistics": true,
 "supportsAdvancedQueries": true,
 "editFieldsInfo": null,
 "ownershipBasedAccessControlForRasters": null,
 "allowComputeTiePoints": false,
 "useStandardizedQueries": true,
 "advancedQueryCapabilities": {
  "useStandardizedQueries": true,
  "supportsStatistics": true,
  "supportsOrderBy": true,
  "supportsDistinct": true,
  "supportsPagination": true
 },
 "spatialReference": {
  "wkid": 102100,
  "latestWkid": 3857
 }
}
