View In:
ArcGIS JavaScript
ArcGIS Online Map Viewer
ArcGIS Earth
Service Description: L'indice de sévérité de sécheresse de Palmer (ISSP) est une mesure de la sécheresse fondée sur les précipitations et la température récentes et repose sur un modèle de l'offre et de la demande de l'humiditédu sol. L'indice s'est avéré très efficace pour déterminer la sécheresse àlong terme, soit plusieurs mois, mais il l'est moins pour les conditions qui durent quelques semaines. Il utilise un taux de 0 comme normal, et la sécheresse se traduit par des chiffres négatifs, par exemple, -2 est une sécheressemodérée, -3 est une sécheresse grave et -4 est une sécheresse extrême. L'algorithme de Palmer sert également à décrire les périodes humides en utilisant des nombres positifs correspondants.L'indice d'écart d'humidité (ISP-Z) est une estimation des écarts d'humidité par rapport à la normale (moyenne sur 30 ans). Il permet de comparer les conditions d'humidité du mois courant par rapport à la moyenne à long terme. Pour plus d'information, consulter : https://ouvert.canada.ca/data/fr/dataset/35b4153e-593f-47aa-91c0-c2f706382079
Name: agclimat/indice_de_severite_de_secheresse_de_palmer
Description: L'indice de sévérité de sécheresse de Palmer (ISSP) est une mesure de la sécheresse fondée sur les précipitations et la température récentes et repose sur un modèle de l'offre et de la demande de l'humiditédu sol. L'indice s'est avéré très efficace pour déterminer la sécheresse àlong terme, soit plusieurs mois, mais il l'est moins pour les conditions qui durent quelques semaines. Il utilise un taux de 0 comme normal, et la sécheresse se traduit par des chiffres négatifs, par exemple, -2 est une sécheressemodérée, -3 est une sécheresse grave et -4 est une sécheresse extrême. L'algorithme de Palmer sert également à décrire les périodes humides en utilisant des nombres positifs correspondants.L'indice d'écart d'humidité (ISP-Z) est une estimation des écarts d'humidité par rapport à la normale (moyenne sur 30 ans). Il permet de comparer les conditions d'humidité du mois courant par rapport à la moyenne à long terme. Pour plus d'information, consulter : https://ouvert.canada.ca/data/fr/dataset/35b4153e-593f-47aa-91c0-c2f706382079
Single Fused Map Cache: false
Extent:
XMin: -1.51688760665E7
YMin: 4170368.102300003
XMax: -5808876.066500001
YMax: 8815368.102300003
Spatial Reference: 102100
(3857)
LatestVCSWkid(0)
Initial Extent:
XMin: -1.51688760665E7
YMin: 4170368.102300003
XMax: -5808876.066500001
YMax: 8815368.102300003
Spatial Reference: 102100
(3857)
LatestVCSWkid(0)
Full Extent:
XMin: -1.51688760665E7
YMin: 4170368.102300003
XMax: -5808876.066500001
YMax: 8815368.102300003
Spatial Reference: 102100
(3857)
LatestVCSWkid(0)
Time Info:
Start Time Field: dateEnd
End Time Field: dateEnd
Time Extent:
[2001/07/26 12:00:00 UTC, 2026/10/12 12:00:00 UTC]
Time Reference:
N/A
Pixel Size X: 5000.0
Pixel Size Y: 5000.0
Band Count: 1
Pixel Type: F32
RasterFunction Infos: {"rasterFunctionInfos": [
{
"name": "pdi",
"description": "Indice de sécheresse de Palmer",
"help": ""
},
{
"name": "mai",
"description": "Indice d'écart d'humidité (indice Z de Palmer)",
"help": ""
},
{
"name": "None",
"description": "",
"help": ""
}
]}
Mensuration Capabilities: Basic
Has Histograms: false
Has Colormap: false
Has Multi Dimensions : false
Rendering Rule:
Min Scale: 0
Max Scale: 0
Copyright Text: Agriculture et Agroalimentaire Canada
Service Data Type: esriImageServiceDataTypeGeneric
Min Values: N/A
Max Values: N/A
Mean Values: N/A
Standard Deviation Values: N/A
Object ID Field: OBJECTID
Fields:
-
OBJECTID
(
type: esriFieldTypeOID, alias: OBJECTID
)
-
Shape
(
type: esriFieldTypeGeometry, alias: Shape
)
-
Name
(
type: esriFieldTypeString, alias: Name, length: 200
)
-
MinPS
(
type: esriFieldTypeDouble, alias: MinPS
)
-
MaxPS
(
type: esriFieldTypeDouble, alias: MaxPS
)
-
LowPS
(
type: esriFieldTypeDouble, alias: LowPS
)
-
HighPS
(
type: esriFieldTypeDouble, alias: HighPS
)
-
Category
(
type: esriFieldTypeInteger, alias: Category
, Coded Values:
[0: Unknown]
, [1: Primary]
, [2: Overview]
, ...6 more...
)
-
Tag
(
type: esriFieldTypeString, alias: Tag, length: 100
)
-
GroupName
(
type: esriFieldTypeString, alias: GroupName, length: 100
)
-
ProductName
(
type: esriFieldTypeString, alias: ProductName, length: 100
)
-
CenterX
(
type: esriFieldTypeDouble, alias: CenterX
)
-
CenterY
(
type: esriFieldTypeDouble, alias: CenterY
)
-
ZOrder
(
type: esriFieldTypeInteger, alias: ZOrder
)
-
Shape_Length
(
type: esriFieldTypeDouble, alias: Shape_Length
)
-
Shape_Area
(
type: esriFieldTypeDouble, alias: Shape_Area
)
-
dateEnd
(
type: esriFieldTypeDate, alias: dateEnd, length: 8
)
-
tType
(
type: esriFieldTypeString, alias: tType, length: 30
)
Default Mosaic Method: ByAttribute
Allowed Mosaic Methods: ByAttribute,None,LockRaster
SortField: dateEnd
SortValue: 3000
Mosaic Operator: First
Default Compression Quality: 75
Default Resampling Method: Bilinear
Max Record Count: 1000
Max Image Height: 4100
Max Image Width: 15000
Max Download Image Count: 20
Max Mosaic Image Count: 1
Allow Raster Function: true
Allow Copy: true
Allow Analysis: true
Allow Compute TiePoints: false
Supports Statistics: true
Supports Advanced Queries: true
Use StandardizedQueries: true
Raster Type Infos:
Name: Raster Dataset
Description: Supports all ArcGIS Raster Datasets
Help:
Has Raster Attribute Table: false
Edit Fields Info: null
Ownership Based AccessControl For Rasters: null
Child Resources:
Info
Statistics
Key Properties
Legend
Raster Function Infos
Supported Operations:
Export Image
Query
Identify
Measure
Compute Histograms
Compute Statistics Histograms
Get Samples
Compute Class Statistics
Query Boundary
Compute Pixel Location
Compute Angles
Validate
Project