View In:
ArcGIS JavaScript
ArcGIS Online Map Viewer
ArcGIS Earth
Service Description: Les précipitations accumulées représentent la hauteur totale de précipitations (solide et/ou liquide en mm) qui a été enregistrée sur une durée donnée. Les produits sont générés pour les périodes suivantes : L'année agricole, la saison de croissance et la saison hivernale ainsi que les produits roulants pour les jours 7, 14, 30, 60, 90, 180, 270, 365, 730, 1095, 1460 et 1825. Ces valeurs visent à donner aux utilisateurs une idée générale de la hauteur de précipitations reçue dans une région sur une période donnée. Pour plus d'information, consulter : https://ouvert.canada.ca/data/fr/dataset/708992ad-bc24-4d0d-a087-17b7b5fd4d4d
Name: agclimat/precipitations_accumulees
Description: Les précipitations accumulées représentent la hauteur totale de précipitations (solide et/ou liquide en mm) qui a été enregistrée sur une durée donnée. Les produits sont générés pour les périodes suivantes : L'année agricole, la saison de croissance et la saison hivernale ainsi que les produits roulants pour les jours 7, 14, 30, 60, 90, 180, 270, 365, 730, 1095, 1460 et 1825. Ces valeurs visent à donner aux utilisateurs une idée générale de la hauteur de précipitations reçue dans une région sur une période donnée. Pour plus d'information, consulter : https://ouvert.canada.ca/data/fr/dataset/708992ad-bc24-4d0d-a087-17b7b5fd4d4d
Single Fused Map Cache: false
Extent:
XMin: -1.5171017184E7
YMin: 4170520.4877000004
XMax: -5804017.184
YMax: 8820520.4877
Spatial Reference: 102100
(3857)
LatestVCSWkid(0)
Initial Extent:
XMin: -1.5171017184E7
YMin: 4170520.4877000004
XMax: -5804017.184
YMax: 8820520.4877
Spatial Reference: 102100
(3857)
LatestVCSWkid(0)
Full Extent:
XMin: -1.5171017184E7
YMin: 4170520.4877000004
XMax: -5804017.184
YMax: 8820520.4877
Spatial Reference: 102100
(3857)
LatestVCSWkid(0)
Time Info:
Start Time Field: dateEnd
End Time Field: dateEnd
Time Extent:
[2013/04/01 12:00:00 UTC, 2026/10/15 12:00:00 UTC]
Time Reference:
N/A
Pixel Size X: 1000.0
Pixel Size Y: 1000.0
Band Count: 1
Pixel Type: F32
RasterFunction Infos: {"rasterFunctionInfos": [
{
"name": "ac_ay",
"description": "Année agricole - 1 septembre au 1 août (mm)",
"help": ""
},
{
"name": "ac_01",
"description": "24 heures (mm)",
"help": ""
},
{
"name": "ac_07",
"description": "7 jours (mm)",
"help": ""
},
{
"name": "ac_1095",
"description": "1095 jours (mm)",
"help": ""
},
{
"name": "ac_14",
"description": "14 jours (mm)",
"help": ""
},
{
"name": "ac_1460",
"description": "1460 jours (mm)",
"help": ""
},
{
"name": "ac_180",
"description": "180 jours (mm)",
"help": ""
},
{
"name": "ac_1825",
"description": "1825 jours (mm)",
"help": ""
},
{
"name": "ac_270",
"description": "270 jours (mm)",
"help": ""
},
{
"name": "ac_30",
"description": "30 jours (mm)",
"help": ""
},
{
"name": "ac_365",
"description": "365 jours (mm)",
"help": ""
},
{
"name": "ac_60",
"description": "60 jours (mm)",
"help": ""
},
{
"name": "ac_730",
"description": "730 jours (mm)",
"help": ""
},
{
"name": "ac_90",
"description": "90 jours (mm)",
"help": ""
},
{
"name": "ac_gs",
"description": "Saison de croissance - 1 avril au 31 octobre (mm)",
"help": ""
},
{
"name": "ac_wi",
"description": "Saison de d'hiver - 1 novembre au 31 mars (mm)",
"help": ""
},
{
"name": "None",
"description": "",
"help": ""
}
]}
Mensuration Capabilities: Basic
Has Histograms: false
Has Colormap: false
Has Multi Dimensions : false
Rendering Rule:
Min Scale: 0
Max Scale: 0
Copyright Text: Agriculture et Agroalimentaire Canada
Service Data Type: esriImageServiceDataTypeGeneric
Min Values: N/A
Max Values: N/A
Mean Values: N/A
Standard Deviation Values: N/A
Object ID Field: OBJECTID
Fields:
-
OBJECTID
(
type: esriFieldTypeOID, alias: OBJECTID
)
-
Shape
(
type: esriFieldTypeGeometry, alias: Shape
)
-
Name
(
type: esriFieldTypeString, alias: Name, length: 200
)
-
MinPS
(
type: esriFieldTypeDouble, alias: MinPS
)
-
MaxPS
(
type: esriFieldTypeDouble, alias: MaxPS
)
-
LowPS
(
type: esriFieldTypeDouble, alias: LowPS
)
-
HighPS
(
type: esriFieldTypeDouble, alias: HighPS
)
-
Category
(
type: esriFieldTypeInteger, alias: Category
, Coded Values:
[0: Unknown]
, [1: Primary]
, [2: Overview]
, ...6 more...
)
-
Tag
(
type: esriFieldTypeString, alias: Tag, length: 100
)
-
GroupName
(
type: esriFieldTypeString, alias: GroupName, length: 100
)
-
ProductName
(
type: esriFieldTypeString, alias: ProductName, length: 100
)
-
CenterX
(
type: esriFieldTypeDouble, alias: CenterX
)
-
CenterY
(
type: esriFieldTypeDouble, alias: CenterY
)
-
ZOrder
(
type: esriFieldTypeInteger, alias: ZOrder
)
-
Shape_Length
(
type: esriFieldTypeDouble, alias: Shape_Length
)
-
Shape_Area
(
type: esriFieldTypeDouble, alias: Shape_Area
)
-
dateEnd
(
type: esriFieldTypeDate, alias: dateEnd, length: 8
)
-
tType
(
type: esriFieldTypeString, alias: tType, length: 30
)
Default Mosaic Method: ByAttribute
Allowed Mosaic Methods: ByAttribute,None,LockRaster
SortField: dateEnd
SortValue: 3000
Mosaic Operator: First
Default Compression Quality: 75
Default Resampling Method: Bilinear
Max Record Count: 1000
Max Image Height: 4100
Max Image Width: 15000
Max Download Image Count: 20
Max Mosaic Image Count: 1
Allow Raster Function: true
Allow Copy: true
Allow Analysis: true
Allow Compute TiePoints: false
Supports Statistics: true
Supports Advanced Queries: true
Use StandardizedQueries: true
Raster Type Infos:
Name: Raster Dataset
Description: Supports all ArcGIS Raster Datasets
Help:
Has Raster Attribute Table: false
Edit Fields Info: null
Ownership Based AccessControl For Rasters: null
Child Resources:
Info
Statistics
Key Properties
Legend
Raster Function Infos
Supported Operations:
Export Image
Query
Identify
Measure
Compute Histograms
Compute Statistics Histograms
Get Samples
Compute Class Statistics
Query Boundary
Compute Pixel Location
Compute Angles
Validate
Project