View In:
ArcGIS JavaScript
ArcGIS Online Map Viewer
ArcGIS Earth
Service Description: Departure from average precipitation products compute the accumulated precipitation value for a location and subtract the long term average value at that location from it. The long term average value is currently defined as the average amount over the period of 1981 - 2010. If the resultant value is negative it indicates that the location has received less than the usual amount of precipitation for that timeframe by the amount given in mm; conversely, a positive amount shows that the location has seen more than the usual amount of precipitation. Products are produced for the following timeframes: Agricultural Year, Growing Season and Winter Season as well as rolling products for 30, 60, 90, 180, 270, 365, 730, 1095, 1460 and 1825 days. These values are intended to provide users with a general idea of the how the amount of precipitation that has been received by a region over the given timeframe compares to the amount which is generally received. For more information, visit: https://open.canada.ca/data/en/dataset/7b817d93-f34d-4aa8-8658-d9abe9d84a8f
Name: agclimate/departure_from_average_precipitation
Description: Departure from average precipitation products compute the accumulated precipitation value for a location and subtract the long term average value at that location from it. The long term average value is currently defined as the average amount over the period of 1981 - 2010. If the resultant value is negative it indicates that the location has received less than the usual amount of precipitation for that timeframe by the amount given in mm; conversely, a positive amount shows that the location has seen more than the usual amount of precipitation. Products are produced for the following timeframes: Agricultural Year, Growing Season and Winter Season as well as rolling products for 30, 60, 90, 180, 270, 365, 730, 1095, 1460 and 1825 days. These values are intended to provide users with a general idea of the how the amount of precipitation that has been received by a region over the given timeframe compares to the amount which is generally received. For more information, visit: https://open.canada.ca/data/en/dataset/7b817d93-f34d-4aa8-8658-d9abe9d84a8f
Single Fused Map Cache: false
Extent:
XMin: -1.51691624019E7
YMin: 4170057.261000002
XMax: -5807162.401900001
YMax: 8816057.261000002
Spatial Reference: 102100
(3857)
LatestVCSWkid(0)
Initial Extent:
XMin: -1.51691624019E7
YMin: 4170057.261000002
XMax: -5807162.401900001
YMax: 8816057.261000002
Spatial Reference: 102100
(3857)
LatestVCSWkid(0)
Full Extent:
XMin: -1.51691624019E7
YMin: 4170057.261000002
XMax: -5807162.401900001
YMax: 8816057.261000002
Spatial Reference: 102100
(3857)
LatestVCSWkid(0)
Time Info:
Start Time Field: dateEnd
End Time Field: dateEnd
Time Extent:
[2013/04/01 12:00:00 UTC, 2026/10/28 12:00:00 UTC]
Time Reference:
N/A
Pixel Size X: 1000.0
Pixel Size Y: 1000.0
Band Count: 1
Pixel Type: F32
RasterFunction Infos: {"rasterFunctionInfos": [
{
"name": "dnp_ay",
"description": "Agricultural year - September 1 to August 1 (mm)",
"help": ""
},
{
"name": "dnp_1095",
"description": "1095 days (mm) ",
"help": ""
},
{
"name": "dnp_1460",
"description": "1460 days (mm) ",
"help": ""
},
{
"name": "dnp_180",
"description": "180 days (mm) ",
"help": ""
},
{
"name": "dnp_1825",
"description": "1825 days (mm) ",
"help": ""
},
{
"name": "dnp_270",
"description": "270 days (mm) ",
"help": ""
},
{
"name": "dnp_30",
"description": "30 days (mm) ",
"help": ""
},
{
"name": "dnp_365",
"description": "365 days (mm) ",
"help": ""
},
{
"name": "dnp_60",
"description": "60 days (mm) ",
"help": ""
},
{
"name": "dnp_730",
"description": "730 days (mm) ",
"help": ""
},
{
"name": "dnp_90",
"description": "90 days (mm) ",
"help": ""
},
{
"name": "dnp_gs",
"description": "Growing season - April 1 to October 31 (mm)",
"help": ""
},
{
"name": "dnp_wi",
"description": "Winter season - November 1 to March 31 (mm)",
"help": ""
},
{
"name": "None",
"description": "",
"help": ""
}
]}
Mensuration Capabilities: Basic
Has Histograms: false
Has Colormap: false
Has Multi Dimensions : false
Rendering Rule:
Min Scale: 0
Max Scale: 0
Copyright Text: Agriculture and Agri-Food Canada
Service Data Type: esriImageServiceDataTypeGeneric
Min Values: N/A
Max Values: N/A
Mean Values: N/A
Standard Deviation Values: N/A
Object ID Field: OBJECTID
Fields:
-
OBJECTID
(
type: esriFieldTypeOID, alias: OBJECTID
)
-
Shape
(
type: esriFieldTypeGeometry, alias: Shape
)
-
Name
(
type: esriFieldTypeString, alias: Name, length: 200
)
-
MinPS
(
type: esriFieldTypeDouble, alias: MinPS
)
-
MaxPS
(
type: esriFieldTypeDouble, alias: MaxPS
)
-
LowPS
(
type: esriFieldTypeDouble, alias: LowPS
)
-
HighPS
(
type: esriFieldTypeDouble, alias: HighPS
)
-
Category
(
type: esriFieldTypeInteger, alias: Category
, Coded Values:
[0: Unknown]
, [1: Primary]
, [2: Overview]
, ...6 more...
)
-
Tag
(
type: esriFieldTypeString, alias: Tag, length: 100
)
-
GroupName
(
type: esriFieldTypeString, alias: GroupName, length: 100
)
-
ProductName
(
type: esriFieldTypeString, alias: ProductName, length: 100
)
-
CenterX
(
type: esriFieldTypeDouble, alias: CenterX
)
-
CenterY
(
type: esriFieldTypeDouble, alias: CenterY
)
-
ZOrder
(
type: esriFieldTypeInteger, alias: ZOrder
)
-
Shape_Length
(
type: esriFieldTypeDouble, alias: Shape_Length
)
-
Shape_Area
(
type: esriFieldTypeDouble, alias: Shape_Area
)
-
dateEnd
(
type: esriFieldTypeDate, alias: dateEnd, length: 8
)
-
tType
(
type: esriFieldTypeString, alias: tType, length: 30
)
Default Mosaic Method: ByAttribute
Allowed Mosaic Methods: ByAttribute,None,LockRaster
SortField: dateEnd
SortValue: 3000
Mosaic Operator: First
Default Compression Quality: 75
Default Resampling Method: Bilinear
Max Record Count: 1000
Max Image Height: 4100
Max Image Width: 15000
Max Download Image Count: 20
Max Mosaic Image Count: 1
Allow Raster Function: true
Allow Copy: true
Allow Analysis: true
Allow Compute TiePoints: false
Supports Statistics: true
Supports Advanced Queries: true
Use StandardizedQueries: true
Raster Type Infos:
Name: Raster Dataset
Description: Supports all ArcGIS Raster Datasets
Help:
Has Raster Attribute Table: false
Edit Fields Info: null
Ownership Based AccessControl For Rasters: null
Child Resources:
Info
Statistics
Key Properties
Legend
Raster Function Infos
Supported Operations:
Export Image
Query
Identify
Measure
Compute Histograms
Compute Statistics Histograms
Get Samples
Compute Class Statistics
Query Boundary
Compute Pixel Location
Compute Angles
Validate
Project