View In:
ArcGIS JavaScript
ArcGIS Online Map Viewer
ArcGIS Earth
Service Description: In the 'Weekly best-quality maximum - NDVI anomalies' dataset series, each pixel value corresponds to the difference (anomaly) between the mean "best-quality" max-NDVI of the week specified (e.g. Week 18, 2000-2014) and the "best-quality" max-NDVI of the same week in a specific year (e.g. Week 18, 2015). Max-NDVI anomalies < 0 indicate where weekly max-NDVI is lower than normal. Anomalies > 0 indicate where weekly max-NDVI is higher than normal. Anomalies close to 0 indicate where weekly max-NDVI is similar to normal. For more information, visit: https://open.canada.ca/data/en/dataset/ea6b4be2-9826-47f3-a387-33ddf02592f4
Name: agextent_mod_anomaly_best_quality_max_ndvi_weekly
Description: In the 'Weekly best-quality maximum - NDVI anomalies' dataset series, each pixel value corresponds to the difference (anomaly) between the mean "best-quality" max-NDVI of the week specified (e.g. Week 18, 2000-2014) and the "best-quality" max-NDVI of the same week in a specific year (e.g. Week 18, 2015). Max-NDVI anomalies < 0 indicate where weekly max-NDVI is lower than normal. Anomalies > 0 indicate where weekly max-NDVI is higher than normal. Anomalies close to 0 indicate where weekly max-NDVI is similar to normal. For more information, visit: https://open.canada.ca/data/en/dataset/ea6b4be2-9826-47f3-a387-33ddf02592f4
Single Fused Map Cache: false
Extent:
XMin: -1.837281812018022E7
YMin: 5119339.770832116
XMax: -4474458.187190054
YMax: 8399737.88896513
Spatial Reference: 102100
(3857)
LatestVCSWkid(0)
Initial Extent:
XMin: -1.837281812018022E7
YMin: 5119339.770832116
XMax: -4474458.187190054
YMax: 8399737.88896513
Spatial Reference: 102100
(3857)
LatestVCSWkid(0)
Full Extent:
XMin: -1.837281812018022E7
YMin: 5119339.770832116
XMax: -4474458.187190054
YMax: 8399737.88896513
Spatial Reference: 102100
(3857)
LatestVCSWkid(0)
Time Info:
Start Time Field: dateEnd
End Time Field: dateEnd
Time Extent:
[2023/03/26 12:00:00 UTC, 2026/09/06 12:00:00 UTC]
Time Reference:
N/A
Pixel Size X: 534.9638157425006
Pixel Size Y: 534.9638157425006
Band Count: 1
Pixel Type: F32
RasterFunction Infos: {"rasterFunctionInfos": [
{
"name": "agextent_mod_anomaly_best_quality_max_ndvi",
"description": "Remap and Attribute Table raster functions",
"help": ""
},
{
"name": "None",
"description": "",
"help": ""
}
]}
Mensuration Capabilities: Basic
Has Histograms: false
Has Colormap: false
Has Multi Dimensions : false
Rendering Rule:
Min Scale: 0
Max Scale: 0
Copyright Text: Agriculture and Agri-Food Canada
Service Data Type: esriImageServiceDataTypeGeneric
Min Values: N/A
Max Values: N/A
Mean Values: N/A
Standard Deviation Values: N/A
Object ID Field: OBJECTID
Fields:
-
OBJECTID
(
type: esriFieldTypeOID, alias: OBJECTID
)
-
Shape
(
type: esriFieldTypeGeometry, alias: Shape
)
-
Name
(
type: esriFieldTypeString, alias: Name, length: 200
)
-
MinPS
(
type: esriFieldTypeDouble, alias: MinPS
)
-
MaxPS
(
type: esriFieldTypeDouble, alias: MaxPS
)
-
LowPS
(
type: esriFieldTypeDouble, alias: LowPS
)
-
HighPS
(
type: esriFieldTypeDouble, alias: HighPS
)
-
Category
(
type: esriFieldTypeInteger, alias: Category
, Coded Values:
[0: Unknown]
, [1: Primary]
, [2: Overview]
, ...6 more...
)
-
Tag
(
type: esriFieldTypeString, alias: Tag, length: 100
)
-
GroupName
(
type: esriFieldTypeString, alias: GroupName, length: 100
)
-
ProductName
(
type: esriFieldTypeString, alias: ProductName, length: 100
)
-
CenterX
(
type: esriFieldTypeDouble, alias: CenterX
)
-
CenterY
(
type: esriFieldTypeDouble, alias: CenterY
)
-
ZOrder
(
type: esriFieldTypeInteger, alias: ZOrder
)
-
Shape_Length
(
type: esriFieldTypeDouble, alias: Shape_Length
)
-
Shape_Area
(
type: esriFieldTypeDouble, alias: Shape_Area
)
-
dateEnd
(
type: esriFieldTypeDate, alias: dateEnd, length: 8
)
Default Mosaic Method: ByAttribute
Allowed Mosaic Methods: ByAttribute,None,LockRaster
SortField: dateEnd
SortValue: 3000
Mosaic Operator: First
Default Compression Quality: 75
Default Resampling Method: Bilinear
Max Record Count: 1000
Max Image Height: 4100
Max Image Width: 15000
Max Download Image Count: 20
Max Mosaic Image Count: 1
Allow Raster Function: true
Allow Copy: true
Allow Analysis: true
Allow Compute TiePoints: false
Supports Statistics: true
Supports Advanced Queries: true
Use StandardizedQueries: true
Raster Type Infos:
Name: Raster Dataset
Description: Supports all ArcGIS Raster Datasets
Help:
Has Raster Attribute Table: false
Edit Fields Info: null
Ownership Based AccessControl For Rasters: null
Child Resources:
Info
Statistics
Key Properties
Legend
Raster Function Infos
Supported Operations:
Export Image
Query
Identify
Measure
Compute Histograms
Compute Statistics Histograms
Get Samples
Compute Class Statistics
Query Boundary
Compute Pixel Location
Compute Angles
Validate
Project