View In:
ArcGIS JavaScript
ArcGIS Online Map Viewer
ArcGIS Earth
Service Description: The new global dataset, called the Evaporative Stress Index (ESI), available online and produced weekly at 5-kilometer resolution for the entire globe, reveals regions of drought where vegetation is stressed due to lack of water, enabling agriculture ministries to provide farmers with actionable advice about irrigation. The ESI can capture early signals of 'flash drought', a condition brought on by extended periods of hot, dry, and windy conditions leading to rapid soil moisture depletion. Reduced rates of water loss can be observed through the use of land surface temperature before it can be observed through decreases in vegetation health or 'greenness'. The ESI describes soil moisture across the landscape without using observed rainfall data. This is critical in developing regions and other parts of the world lacking sufficient ground-based observations of rainfall. The ESI is based on satellite observations of land surface temperature, which are used to estimate water loss due to evapotranspiration (ET), the loss of water via evaporation from soil and plant surfaces and via transpiration through plant leaves. Generally, healthy green vegetation with access to an adequate supply of water warms at a much slower rate than does dry and/or stressed vegetation. Based on variations in land surface temperature, the ESI indicates how the current rate of ET compares to normal conditions. Negative ESI values show below normal ET rates, indicating vegetation that stressed due to inadequate soil moisture. (Plants first response when stressed from lack of water is to reduce their transpiration to conserve water within the plant.) Author: Christopher Hain (NASA Marshall Space Flight Center), Martha Anderson (USDA Agricultural Research Service). For more information, visit: https://servirglobal.net/Global/Evaporative-Stress-Index-4-weeks (SERVIR Global)
Name: evaporative_stress_index
Description: The new global dataset, called the Evaporative Stress Index (ESI), available online and produced weekly at 5-kilometer resolution for the entire globe, reveals regions of drought where vegetation is stressed due to lack of water, enabling agriculture ministries to provide farmers with actionable advice about irrigation. The ESI can capture early signals of 'flash drought', a condition brought on by extended periods of hot, dry, and windy conditions leading to rapid soil moisture depletion. Reduced rates of water loss can be observed through the use of land surface temperature before it can be observed through decreases in vegetation health or 'greenness'. The ESI describes soil moisture across the landscape without using observed rainfall data. This is critical in developing regions and other parts of the world lacking sufficient ground-based observations of rainfall. The ESI is based on satellite observations of land surface temperature, which are used to estimate water loss due to evapotranspiration (ET), the loss of water via evaporation from soil and plant surfaces and via transpiration through plant leaves. Generally, healthy green vegetation with access to an adequate supply of water warms at a much slower rate than does dry and/or stressed vegetation. Based on variations in land surface temperature, the ESI indicates how the current rate of ET compares to normal conditions. Negative ESI values show below normal ET rates, indicating vegetation that stressed due to inadequate soil moisture. (Plants first response when stressed from lack of water is to reduce their transpiration to conserve water within the plant.) Author: Christopher Hain (NASA Marshall Space Flight Center), Martha Anderson (USDA Agricultural Research Service). For more information, visit: https://servirglobal.net/Global/Evaporative-Stress-Index-4-weeks (SERVIR Global)
Single Fused Map Cache: false
Extent:
XMin: -1.56960482E7
YMin: 5160979.440000001
XMax: -5900366.573587244
YMax: 1.782191196E7
Spatial Reference: 102100
(3857)
LatestVCSWkid(0)
Initial Extent:
XMin: -1.56960482E7
YMin: 5160979.440000001
XMax: -5900366.573587244
YMax: 1.782191196E7
Spatial Reference: 102100
(3857)
LatestVCSWkid(0)
Full Extent:
XMin: -1.56960482E7
YMin: 5160979.440000001
XMax: -5900366.573587244
YMax: 1.782191196E7
Spatial Reference: 102100
(3857)
LatestVCSWkid(0)
Time Info:
Start Time Field: dateEnd
End Time Field: dateEnd
Time Extent:
[2025/01/01 12:00:00 UTC, 2026/07/09 12:00:00 UTC]
Time Reference:
N/A
Pixel Size X: 5607.144605845881
Pixel Size Y: 5607.144605845881
Band Count: 1
Pixel Type: F32
RasterFunction Infos: {"rasterFunctionInfos": [
{
"name": "esi_modis_4week",
"description": "Remap and Attribute Table raster functions",
"help": ""
},
{
"name": "None",
"description": "",
"help": ""
}
]}
Mensuration Capabilities:
Has Histograms: false
Has Colormap: false
Has Multi Dimensions : false
Rendering Rule:
Min Scale: 0
Max Scale: 0
Copyright Text: Agriculture and Agri-Food Canada, NASA, USDA
Service Data Type: esriImageServiceDataTypeGeneric
Min Values: N/A
Max Values: N/A
Mean Values: N/A
Standard Deviation Values: N/A
Object ID Field: OBJECTID
Fields:
-
OBJECTID
(
type: esriFieldTypeOID, alias: OBJECTID
)
-
Shape
(
type: esriFieldTypeGeometry, alias: Shape
)
-
Name
(
type: esriFieldTypeString, alias: Name, length: 200
)
-
MinPS
(
type: esriFieldTypeDouble, alias: MinPS
)
-
MaxPS
(
type: esriFieldTypeDouble, alias: MaxPS
)
-
LowPS
(
type: esriFieldTypeDouble, alias: LowPS
)
-
HighPS
(
type: esriFieldTypeDouble, alias: HighPS
)
-
Category
(
type: esriFieldTypeInteger, alias: Category
, Coded Values:
[0: Unknown]
, [1: Primary]
, [2: Overview]
, ...6 more...
)
-
Tag
(
type: esriFieldTypeString, alias: Tag, length: 100
)
-
GroupName
(
type: esriFieldTypeString, alias: GroupName, length: 100
)
-
ProductName
(
type: esriFieldTypeString, alias: ProductName, length: 100
)
-
CenterX
(
type: esriFieldTypeDouble, alias: CenterX
)
-
CenterY
(
type: esriFieldTypeDouble, alias: CenterY
)
-
ZOrder
(
type: esriFieldTypeInteger, alias: ZOrder
)
-
Shape_Length
(
type: esriFieldTypeDouble, alias: Shape_Length
)
-
Shape_Area
(
type: esriFieldTypeDouble, alias: Shape_Area
)
-
dateEnd
(
type: esriFieldTypeDate, alias: dateEnd, length: 8
)
Default Mosaic Method: ByAttribute
Allowed Mosaic Methods: ByAttribute,None,LockRaster
SortField: dateEnd
SortValue: 3000
Mosaic Operator: First
Default Compression Quality: 75
Default Resampling Method: Bilinear
Max Record Count: 1000
Max Image Height: 4100
Max Image Width: 15000
Max Download Image Count: 20
Max Mosaic Image Count: 1
Allow Raster Function: true
Allow Copy: true
Allow Analysis: true
Allow Compute TiePoints: false
Supports Statistics: true
Supports Advanced Queries: true
Use StandardizedQueries: true
Raster Type Infos:
Name: Raster Dataset
Description: Supports all ArcGIS Raster Datasets
Help:
Has Raster Attribute Table: false
Edit Fields Info: null
Ownership Based AccessControl For Rasters: null
Child Resources:
Info
Statistics
Key Properties
Legend
Raster Function Infos
Supported Operations:
Export Image
Query
Identify
Compute Histograms
Compute Statistics Histograms
Get Samples
Compute Class Statistics
Query Boundary
Compute Pixel Location
Compute Angles
Validate
Project