View In:
ArcGIS JavaScript
ArcGIS Online Map Viewer
ArcGIS Earth
Service Description: L'Outil de surveillance des sécheresses au Canada (OSSC) est un produit composite élaboré à partir d'une vaste gamme de renseignements, comme l'indice de végétation par différence normalisée (IVDN), les valeurs de débit d'eau, l'indice Palmer de gravité de la sécheresse et les indices de sécheresse utilisés par les secteurs de l'agriculture, des forêts et de la gestion de l'eau. Les régions susceptibles d'être touchées par la sécheresse sont analysées en fonction des cartes sur les précipitations, la température, l'indice de modélisation des sécheresses ainsi que les données climatiques, et les résultats sont interprétés par des scientifiques fédéraux, provinciaux et universitaires. Une fois par mois, habituellement avant le 10 du mois courant, le Service national d'information sur l'agroclimat (SNIA) d'Agriculture et Agroalimentaire Canada met à jour la série de données avec celles correspondant à la fin du mois précédent; il verse ensuite ces données dans la grande base de surveillance des sécheresses de l'Amérique du Nord (NA-DM, North American Drought Monitor). Les zones de sécheresse sont classées comme suit : - D0 (temps anormalement sec) - représente une situation qui survient une fois tous les trois à cinq ans - D1 (sécheresse modérée) - représente une situation qui survient tous les cinq à dix ans - D2 (sécheresse grave) - représente une situation qui survient tous les 10 à 20 ans - D3 (sécheresse extrême) - représente une situation qui survient tous les 20 à 25 ans - D4 (sécheresse exceptionnelle) - représente une situation qui survient tous les 50 ans. Pour plus d'information, consulter : https://ouvert.canada.ca/data/fr/dataset/292646cd-619f-4200-afb1-8b2c52f984a2
Name: surveillance_des_secheresses_au_canada
Description: L'Outil de surveillance des sécheresses au Canada (OSSC) est un produit composite élaboré à partir d'une vaste gamme de renseignements, comme l'indice de végétation par différence normalisée (IVDN), les valeurs de débit d'eau, l'indice Palmer de gravité de la sécheresse et les indices de sécheresse utilisés par les secteurs de l'agriculture, des forêts et de la gestion de l'eau. Les régions susceptibles d'être touchées par la sécheresse sont analysées en fonction des cartes sur les précipitations, la température, l'indice de modélisation des sécheresses ainsi que les données climatiques, et les résultats sont interprétés par des scientifiques fédéraux, provinciaux et universitaires. Une fois par mois, habituellement avant le 10 du mois courant, le Service national d'information sur l'agroclimat (SNIA) d'Agriculture et Agroalimentaire Canada met à jour la série de données avec celles correspondant à la fin du mois précédent; il verse ensuite ces données dans la grande base de surveillance des sécheresses de l'Amérique du Nord (NA-DM, North American Drought Monitor). Les zones de sécheresse sont classées comme suit : - D0 (temps anormalement sec) - représente une situation qui survient une fois tous les trois à cinq ans - D1 (sécheresse modérée) - représente une situation qui survient tous les cinq à dix ans - D2 (sécheresse grave) - représente une situation qui survient tous les 10 à 20 ans - D3 (sécheresse extrême) - représente une situation qui survient tous les 20 à 25 ans - D4 (sécheresse exceptionnelle) - représente une situation qui survient tous les 50 ans. Pour plus d'information, consulter : https://ouvert.canada.ca/data/fr/dataset/292646cd-619f-4200-afb1-8b2c52f984a2
Single Fused Map Cache: false
Extent:
XMin: -1.56980635866E7
YMin: 5116257.891900003
XMax: -5853063.5866
YMax: 1.7926257891900003E7
Spatial Reference: 102100
(3857)
LatestVCSWkid(0)
Initial Extent:
XMin: -1.56980635866E7
YMin: 5116257.891900003
XMax: -5853063.5866
YMax: 1.7926257891900003E7
Spatial Reference: 102100
(3857)
LatestVCSWkid(0)
Full Extent:
XMin: -1.56980635866E7
YMin: 5116257.891900003
XMax: -5853063.5866
YMax: 1.7926257891900003E7
Spatial Reference: 102100
(3857)
LatestVCSWkid(0)
Time Info:
Start Time Field: dateEnd
End Time Field: dateEnd
Time Extent:
[2002/11/28 12:00:00 UTC, 2026/05/28 12:00:00 UTC]
Time Reference:
N/A
Pixel Size X: 5000.0
Pixel Size Y: 5000.0
Band Count: 1
Pixel Type: S8
RasterFunction Infos: {"rasterFunctionInfos": [
{
"name": "surveillance_des_secheresses_au_canada",
"description": "Remap and Attribute Table raster functions",
"help": ""
},
{
"name": "cdm_drought_change",
"description": "A raster function template.",
"help": ""
},
{
"name": "None",
"description": "",
"help": ""
}
]}
Mensuration Capabilities: Basic
Has Histograms: false
Has Colormap: false
Has Multi Dimensions : false
Rendering Rule:
Min Scale: 0
Max Scale: 0
Copyright Text: Agriculture et Agroalimentaire Canada
Service Data Type: esriImageServiceDataTypeGeneric
Min Values: N/A
Max Values: N/A
Mean Values: N/A
Standard Deviation Values: N/A
Object ID Field: OBJECTID
Fields:
-
OBJECTID
(
type: esriFieldTypeOID, alias: OBJECTID
)
-
Shape
(
type: esriFieldTypeGeometry, alias: Shape
)
-
Name
(
type: esriFieldTypeString, alias: Name, length: 200
)
-
MinPS
(
type: esriFieldTypeDouble, alias: MinPS
)
-
MaxPS
(
type: esriFieldTypeDouble, alias: MaxPS
)
-
LowPS
(
type: esriFieldTypeDouble, alias: LowPS
)
-
HighPS
(
type: esriFieldTypeDouble, alias: HighPS
)
-
Category
(
type: esriFieldTypeInteger, alias: Category
, Coded Values:
[0: Unknown]
, [1: Primary]
, [2: Overview]
, ...6 more...
)
-
Tag
(
type: esriFieldTypeString, alias: Tag, length: 100
)
-
GroupName
(
type: esriFieldTypeString, alias: GroupName, length: 100
)
-
ProductName
(
type: esriFieldTypeString, alias: ProductName, length: 100
)
-
CenterX
(
type: esriFieldTypeDouble, alias: CenterX
)
-
CenterY
(
type: esriFieldTypeDouble, alias: CenterY
)
-
ZOrder
(
type: esriFieldTypeInteger, alias: ZOrder
)
-
Shape_Length
(
type: esriFieldTypeDouble, alias: Shape_Length
)
-
Shape_Area
(
type: esriFieldTypeDouble, alias: Shape_Area
)
-
dateEnd
(
type: esriFieldTypeDate, alias: dateEnd, length: 8
)
Default Mosaic Method: ByAttribute
Allowed Mosaic Methods: ByAttribute,None,LockRaster
SortField: dateEnd
SortValue: 3000
Mosaic Operator: First
Default Compression Quality: 75
Default Resampling Method: Nearest
Max Record Count: 1000
Max Image Height: 4100
Max Image Width: 15000
Max Download Image Count: 20
Max Mosaic Image Count: 1
Allow Raster Function: true
Allow Copy: true
Allow Analysis: true
Allow Compute TiePoints: false
Supports Statistics: true
Supports Advanced Queries: true
Use StandardizedQueries: true
Raster Type Infos:
Name: Raster Dataset
Description: Supports all ArcGIS Raster Datasets
Help:
Has Raster Attribute Table: false
Edit Fields Info: null
Ownership Based AccessControl For Rasters: null
Child Resources:
Info
Statistics
Key Properties
Legend
Raster Function Infos
Supported Operations:
Export Image
Query
Identify
Measure
Compute Histograms
Compute Statistics Histograms
Get Samples
Compute Class Statistics
Query Boundary
Compute Pixel Location
Compute Angles
Validate
Project